BEGIN:VCALENDAR
VERSION:2.0
PRODID:icalendar-ruby
CALSCALE:GREGORIAN
METHOD:PUBLISH
BEGIN:VEVENT
DTSTAMP:20260423T122538Z
UID:71-1219900@princetonfirstumc.org
DTSTART:20260429T170000Z
DTEND:20260429T180000Z
CLASS:PUBLIC
CREATED:20260404T075954
DESCRIPTION:
LAST-MODIFIED:20260404T075954
LOCATION:PFUMC Cushing Hall
SUMMARY:Young at Heart Pizza Party
URL;VALUE=URI:https://princetonfirstumc.org/events/young-at-heart-pizza-par
 ty/2026-04-29
ATTACH;FILENAME=Website-Images-1500-x-784-20.png;FMTTYPE=image/png:https://
 dq5pwpg1q8ru0.cloudfront.net/2026/04/04/12/59/53/a45a93d8-c580-4cba-9285-a
 aab69689671/Website-Images-1500-x-784-20.png
END:VEVENT
END:VCALENDAR
