BEGIN:VCALENDAR
VERSION:2.0
PRODID:icalendar-ruby
CALSCALE:GREGORIAN
METHOD:PUBLISH
BEGIN:VEVENT
DTSTAMP:20260421T151715Z
UID:9-1225330@princetonfirstumc.org
DTSTART:20261004T140000Z
DTEND:20261004T150000Z
CLASS:PUBLIC
CREATED:20260421T100044
DESCRIPTION:
LAST-MODIFIED:20260421T100044
LOCATION:Princeton First United Methodist Church
SUMMARY:Sunday Worship
URL;VALUE=URI:https://princetonfirstumc.org/events/sunday-worship/2026-10-0
 4
ATTACH;FILENAME=church-outside-1-%281%29.png;FMTTYPE=image/png:https://dq5p
 wpg1q8ru0.cloudfront.net/2025/10/19/14/35/02/fefe91fe-9c37-4582-9306-d5cff
 ede5a7b/church-outside-1-%25281%2529.png
END:VEVENT
END:VCALENDAR
